BEGIN:VCALENDAR
VERSION:2.0
PRODID:-//Virginia Cyber Security Partnership (VCSP) - ECPv6.15.20//NONSGML v1.0//EN
CALSCALE:GREGORIAN
METHOD:PUBLISH
X-WR-CALNAME:Virginia Cyber Security Partnership (VCSP)
X-ORIGINAL-URL:https://vacsp.com
X-WR-CALDESC:Events for Virginia Cyber Security Partnership (VCSP)
REFRESH-INTERVAL;VALUE=DURATION:PT1H
X-Robots-Tag:noindex
X-PUBLISHED-TTL:PT1H
BEGIN:VTIMEZONE
TZID:America/New_York
BEGIN:DAYLIGHT
TZOFFSETFROM:-0500
TZOFFSETTO:-0400
TZNAME:EDT
DTSTART:20240310T070000
END:DAYLIGHT
BEGIN:STANDARD
TZOFFSETFROM:-0400
TZOFFSETTO:-0500
TZNAME:EST
DTSTART:20241103T060000
END:STANDARD
BEGIN:DAYLIGHT
TZOFFSETFROM:-0500
TZOFFSETTO:-0400
TZNAME:EDT
DTSTART:20250309T070000
END:DAYLIGHT
BEGIN:STANDARD
TZOFFSETFROM:-0400
TZOFFSETTO:-0500
TZNAME:EST
DTSTART:20251102T060000
END:STANDARD
BEGIN:DAYLIGHT
TZOFFSETFROM:-0500
TZOFFSETTO:-0400
TZNAME:EDT
DTSTART:20260308T070000
END:DAYLIGHT
BEGIN:STANDARD
TZOFFSETFROM:-0400
TZOFFSETTO:-0500
TZNAME:EST
DTSTART:20261101T060000
END:STANDARD
END:VTIMEZONE
BEGIN:VEVENT
DTSTART;TZID=America/New_York:20251030T120000
DTEND;TZID=America/New_York:20251030T130000
DTSTAMP:20260425T105511
CREATED:20251112T194542Z
LAST-MODIFIED:20251112T194542Z
UID:4921-1761825600-1761829200@vacsp.com
SUMMARY:VCSP Member Meeting - Hidden Dangers of AI in Developer Workflows | October 2025 Webinar
DESCRIPTION:  \n \nRewatch the webinar\nUse code: Sk8DK*z@\nAI tools like ChatGPT and Copilot have become indispensable in developers’ daily workflows. Whether it is for code samples and scaffolding\, prototyping\, or documentation\, AI can help eliminate a lot of toil from the developer’s day-to-day. \nHowever\, there are hidden dangers that AI have introduced that are worth exploring. The good news is that for most of these concerns the answer is not more tech or tools\, but something we have been getting right for generations – humans in the loop! \nThis presentation will explore the critical security challenges associated with AI-enhanced development workflows and the essential role of human oversight in mitigating these risks.\nJoin this talk to see some real examples of AI getting it wrong\, but stay for a discussion on how you can leverage already existing tools to make the best use of the most valuable resource in the company & your team’s time. Expect to leave with a fresh perspective on how bright a future we can build as people fostering more secure and efficient development practices. \nSpeaker bio: \nDwayne McDaniel | Developer Advocate\, GitGuardian \nDwayne McDaniel has been working as a Developer Relations professional since 2015 and has been involved in the wider tech community since 2005.  He loves sharing his knowledge and enthusiasm about Git\, Open Source tools\, and tech in general and he has done so at over a hundred events all over the world.  He has been fortunate enough to speak at institutions like MIT\, Stanford\, and far-off places like Paris and Iceland.  You can see some of his past talks on Drupal.tv and WordPress.tv.
URL:https://vacsp.com/event/vcsp-member-meeting-hidden-dangers-of-ai-in-developer-workflows-october-2025-webinar/
END:VEVENT
END:VCALENDAR