BEGIN:VCALENDAR
VERSION:2.0
PRODID:-//Virginia Cyber Security Partnership (VCSP) - ECPv6.15.20//NONSGML v1.0//EN
CALSCALE:GREGORIAN
METHOD:PUBLISH
X-WR-CALNAME:Virginia Cyber Security Partnership (VCSP)
X-ORIGINAL-URL:https://vacsp.com
X-WR-CALDESC:Events for Virginia Cyber Security Partnership (VCSP)
REFRESH-INTERVAL;VALUE=DURATION:PT1H
X-Robots-Tag:noindex
X-PUBLISHED-TTL:PT1H
BEGIN:VTIMEZONE
TZID:America/New_York
BEGIN:DAYLIGHT
TZOFFSETFROM:-0500
TZOFFSETTO:-0400
TZNAME:EDT
DTSTART:20170312T070000
END:DAYLIGHT
BEGIN:STANDARD
TZOFFSETFROM:-0400
TZOFFSETTO:-0500
TZNAME:EST
DTSTART:20171105T060000
END:STANDARD
BEGIN:DAYLIGHT
TZOFFSETFROM:-0500
TZOFFSETTO:-0400
TZNAME:EDT
DTSTART:20180311T070000
END:DAYLIGHT
BEGIN:STANDARD
TZOFFSETFROM:-0400
TZOFFSETTO:-0500
TZNAME:EST
DTSTART:20181104T060000
END:STANDARD
BEGIN:DAYLIGHT
TZOFFSETFROM:-0500
TZOFFSETTO:-0400
TZNAME:EDT
DTSTART:20190310T070000
END:DAYLIGHT
BEGIN:STANDARD
TZOFFSETFROM:-0400
TZOFFSETTO:-0500
TZNAME:EST
DTSTART:20191103T060000
END:STANDARD
END:VTIMEZONE
BEGIN:VEVENT
DTSTART;TZID=America/New_York:20181206T080000
DTEND;TZID=America/New_York:20181206T170000
DTSTAMP:20260423T045605
CREATED:20181203T203757Z
LAST-MODIFIED:20181203T204452Z
UID:4173-1544083200-1544115600@vacsp.com
SUMMARY:Washington\, D.C. Cybersecurity Conference 2018
DESCRIPTION:This is a one-day conference. There will be 8-13 educational cybersecurity speaker sessions with 30-60 tabletop exhibitors. Speaking sessions will be in one main room with breaks in between speaker sessions to browse the vendor table top exhibits. Exhibit hours are 8am to 3pm and speaker sessions will start at 8:45am and go as late as 5pm. \nPasses include a light breakfast and lunch\, as well as entrance to our general session and expo areas. \nThis conference qualifies for CPE credits! See our CPE FAQ for details.
URL:https://vacsp.com/event/washington-d-c-cybersecurity-conference-2018/
LOCATION:Renaissance Washington\, DC Downtown Hotel\, 999 9th St NW\, Washington\, D.C\, 20001
ATTACH;FMTTYPE=image/jpeg:https://vacsp.com/wp-content/uploads/2018/12/Washington-D.C.-Cybersecurity-Conference-2018.jpg
END:VEVENT
BEGIN:VEVENT
DTSTART;VALUE=DATE:20181203
DTEND;VALUE=DATE:20181207
DTSTAMP:20260423T045605
CREATED:20181127T193426Z
LAST-MODIFIED:20181127T200151Z
UID:4148-1543795200-1544140799@vacsp.com
SUMMARY:Black Hat Europe 2018
DESCRIPTION:Black Hat Europe provides attendees with the very latest in research\, development\, and trends in Information Security. Here the brightest professionals and researchers in the industry will come together for a total of four days—two or four days of deeply technical hands-on Trainings\, followed by two days of the latest research and vulnerability disclosures in the Briefings. \n 
URL:https://vacsp.com/event/black-hat-europe-2018/
LOCATION:ExCeL London\, One Western Gateway\, Royal Victoria Dock\, London\, E16 1XL\, United Kingdom
ATTACH;FMTTYPE=image/jpeg:https://vacsp.com/wp-content/uploads/2018/11/black-hat-europe-2018.jpg
END:VEVENT
END:VCALENDAR